BEGIN:VCALENDAR
VERSION:2.0
PRODID:-//Squarespace Inc/Squarespace 6//v6//EN
BEGIN:VEVENT
UID:5924d880bf629a1367a9f97b@squarespace.com
DTSTAMP:20190911T045115Z
DTSTART:20190814T000000Z
DTEND:20190814T050000Z
SUMMARY:Open Day
GEO:-36.717419;148.851731
LOCATION:Boundary Creek\, 2432 Jimenbuen Road\, Dalgety\, NSW\, 2628\, Aust
 ralia
END:VEVENT
END:VCALENDAR
