BEGIN:VCALENDAR
VERSION:2.0
PRODID:-//Squarespace Inc/Squarespace 6//v6//EN
BEGIN:VEVENT
UID:5924d68fa5790aed2c980003@squarespace.com
DTSTAMP:20190911T042809Z
DTSTART:20200831T030000Z
DTEND:20200831T070000Z
SUMMARY:Annual On Property Sale
GEO:-36.717419;148.851731
LOCATION:Boundary Creek\, 2432 Jimenbuen Road\, Jimenbuen\, NSW\, 2630\, Au
 stralia
END:VEVENT
END:VCALENDAR
